Workbook

Sheet Итого
A1: Estimates.guru
A3: 01.03.2023
A4: Коммерческое предложение на установку кондиционеров
A5: Сеть магазинов "Строй Маркет"
A6: 7 магазинов
A7: Раскладка Дмитрий, +79031181515, dmitriy.raskladka@gmail.com
A9: Наименование | B9: Кол-во | C9: Цена | D9: Стоимость
A10: ='Расчет'!A1 -> Выезд на объект для снятия замеров | B10: 1 | C10: ='Расчет'!E5 -> 5000 | D10: =C10*B10 -> 5000
A11: ='Расчет'!A7 -> Оборудование | B11: 1 | C11: ='Расчет'!E12 -> 70000 | D11: =C11*B11 -> 70000
A12: ='Расчет'!A14 -> Монтажные работы | B12: 1 | C12: ='Расчет'!E26 -> 52708.5 | D12: =C12*B12 -> 52708.5
A13: ='Расчет'!A28 -> Доставка | B13: 1 | C13: ='Расчет'!E32 -> 3000 | D13: =C13*B13 -> 3000
C14: Итого | D14: =SUM(D10:D13) -> 130708.5

Sheet Расчет
A1: Выезд на объект для снятия замеров
A2: Наименование | B2: Кол-во, ед.изм. | D2: Цена | E2: Стоимость | F2: Скидка, % | G2: Скидка | H2: Стоимость со скидкой
A4: Выезд мастера - замерщика (замер в указанный 2-х часовой интервал) | B4: 1 | C4: Услуга | D4: 5000 | E4: =B4*D4 -> 5000
D5: Всего | E5: =E4 -> 5000
A7: Оборудование
A8: Наименование | B8: Кол-во, ед.изм. | D8: Цена | E8: Стоимость | F8: Скидка, % | G8: Скидка | H8: Стоимость со скидкой
A10: Настенная сплит-система Haier AS35S2SF1FA / 1U35S2SM1FA (Белый) | B10: 1 | C10: шт. | D10: 70000 | E10: =B10*D10 -> 70000
A11: Кондиционер Haier серии Flexis DC-Inverter AS35S2SF1FA / 1U35S2SM1FA с системой Self Clean и дизайнерским корпусом внутреннего блока гармонично впишется как в классический так и в современный интерьер любого помещения. Мощность модели рассчитана на поддержание комфортного микроклимата в помещениях до 29 квадратных метров. При помощи датчика присутствия регистрируется наличие людей в помещении и их передвижение, в соответствии с чем работа кондиционера автоматически адаптируется под создание наиболее комфортных условий для человека. Датчик света системы Ecopilot контролирует уменьшение освещенности в помещении и в зависимости от этого система корректирует установку температуры для обеспечения энергосбережения.
D12: Всего | E12: =E10 -> 70000
A14: Монтажные работы
A15: Наименование | B15: Кол-во, ед.изм. | D15: Цена | E15: Стоимость | F15: Скидка, % | G15: Скидка | H15: Стоимость со скидкой
A17: Штробление стен для прокладки фреоновой трассы | B17: 20 | C17: пог.м | D17: 1000 | E17: =B17*D17 -> 20000 | F17: 0.15 | G17: =E17*F17 -> 3000 | H17: =E17-G17 -> 17000
A18: Штробление стен для прокладки дренажной трассы | B18: 15 | C18: пог.м | D18: 1000 | E18: =B18*D18 -> 15000 | F18: 0.15 | G18: =E18*F18 -> 2250 | H18: =E18-G18 -> 12750
A19: Прокладка фреоновой трассы | B19: 20 | C19: пог.м | D19: 500 | E19: =B19*D19 -> 10000 | F19: 0.15 | G19: =E19*F19 -> 1500 | H19: =E19-G19 -> 8500
A20: Прокладка дренажной трассы | B20: 20 | C20: пог.м | D20: 500 | E20: =B20*D20 -> 10000 | F20: 0.15 | G20: =E20*F20 -> 1500 | H20: =E20-G20 -> 8500
A21: Сверление отверстий в перекрытиях | B21: 1 | C21: шт. | D21: 10 | E21: =B21*D21 -> 10 | F21: 0.15 | G21: =E21*F21 -> 1.5 | H21: =E21-G21 -> 8.5
A22: Монтаж наружного блока системы | B22: 1 | C22: шт. | D22: 5000 | E22: =B22*D22 -> 5000 | F22: 0.15 | G22: =E22*F22 -> 750 | H22: =E22-G22 -> 4250
A23: Монтаж внутреннего блока системы | B23: 1 | C23: шт. | D23: 2000 | E23: =B23*D23 -> 2000 | F23: 0.15 | G23: =E23*F23 -> 300 | H23: =E23-G23 -> 1700
D24: Всего | E24: =E17+E18+E19+E20+E21+E22+E23 -> 62010
D25: Скидка (15%) | E25: =E24*F17 -> 9301.5
D26: Всего со скидкой | E26: =E24-E25 -> 52708.5
A28: Доставка
A29: Наименование | B29: Кол-во, ед.изм. | D29: Цена | E29: Стоимость | F29: Скидка, % | G29: Скидка | H29: Стоимость со скидкой
A31: Стандартная доставка в течении 2 рабочих дней | B31: 1 | C31: Услуга | D31: 3000 | E31: =B31*D31 -> 3000
D32: Всего | E32: =E31 -> 3000
